BEGIN:VCALENDAR
VERSION:2.0
PRODID:-//Arjan Brouwer - ECPv6.15.17.1//NONSGML v1.0//EN
CALSCALE:GREGORIAN
METHOD:PUBLISH
X-ORIGINAL-URL:https://www.arjanbrouwer.nl
X-WR-CALDESC:Evenementen voor Arjan Brouwer
REFRESH-INTERVAL;VALUE=DURATION:PT1H
X-Robots-Tag:noindex
X-PUBLISHED-TTL:PT1H
BEGIN:VTIMEZONE
TZID:Europe/Amsterdam
BEGIN:DAYLIGHT
TZOFFSETFROM:+0100
TZOFFSETTO:+0200
TZNAME:CEST
DTSTART:20240331T010000
END:DAYLIGHT
BEGIN:STANDARD
TZOFFSETFROM:+0200
TZOFFSETTO:+0100
TZNAME:CET
DTSTART:20241027T010000
END:STANDARD
BEGIN:DAYLIGHT
TZOFFSETFROM:+0100
TZOFFSETTO:+0200
TZNAME:CEST
DTSTART:20250330T010000
END:DAYLIGHT
BEGIN:STANDARD
TZOFFSETFROM:+0200
TZOFFSETTO:+0100
TZNAME:CET
DTSTART:20251026T010000
END:STANDARD
BEGIN:DAYLIGHT
TZOFFSETFROM:+0100
TZOFFSETTO:+0200
TZNAME:CEST
DTSTART:20260329T010000
END:DAYLIGHT
BEGIN:STANDARD
TZOFFSETFROM:+0200
TZOFFSETTO:+0100
TZNAME:CET
DTSTART:20261025T010000
END:STANDARD
END:VTIMEZONE
BEGIN:VEVENT
DTSTART;TZID=Europe/Amsterdam:20251213T080000
DTEND;TZID=Europe/Amsterdam:20251213T170000
DTSTAMP:20260420T040522
CREATED:20241203T151922Z
LAST-MODIFIED:20241203T152030Z
UID:10000267-1765612800-1765645200@www.arjanbrouwer.nl
SUMMARY:Zaterdag 13 December 2025: Piaggio MP3\, Peugeot Metropolis en Yamaha Tricity opstapdag met Instructie.
DESCRIPTION:Gratis Piaggio MP3\, Peugeot Metropolis en Yamaha Tricity driewiel motorscooter opstapdag.				\n				\n				\n				\n							\n					\n				\n				\n			\n							\n				\n									\n						Interesse in de opstapdag? Meld je hier aan:					\n				\n				\n									\n					\n						Klik Hier					\n					\n							\n						\n						\n				\n					\n		\n					\n		\n				\n						\n					\n			\n						\n				\n					In 2 uur tijd kennismaken met de Piaggio MP3\, Peugeot Metropolis 400 en Yamaha Tricity 300:				\n				\n				\n				\n									Arjan Brouwer organiseert in Putten diverse gratis Piaggio MP3\, Peugeot Metropolis en Yamaha Tricity opstapdagen voor mensen die kennis willen maken met een Piaggio MP3\, Peugeot Metropolis of Yamaha Tricity. Het programma van ongeveer 2 uur begint met een theoretische uitleg over hoe een Piaggio MP3 of andere driewieler motorscooter werkt. Ook komt aan bod wat er allemaal komt kijken bij de aanschaf\, onderhoud en het rijden met een MP3.  De instructie wordt afgesloten met een praktisch gedeelte waarbij met meerdere merken en modellen kennisgemaakt kan worden door middel van een proefrit. Deze opstapdag is ook geschikt voor mensen met een autorijbewijs (behaald voor 19-1-2013) die nog nooit op een motor of motorscooter hebben gereden. Let op: het betreft hier geen rij-cursus. Deze kunnen wij tegen betaling wel bieden bij aanschaf van een MP3. Omdat wij veel tijd en moeite steken in deze opstapdagen verwachten wij van de deelnemers dat ze serieuze interesse hebben in de eventuele aankoop op termijn van een MP3 wanneer deze hen bevalt. 								\n				\n				\n				\n									Opstapdag Piaggio MP3\, Peugeot Metropolis en Yamaha Tricity:TijdProgramma08.45Groep 09.00 uur: Aankomst en welkom met koffie (zelf pakken mag).09.00Instructie en presentatie door instructeur(s) aan opstappers– Wat is een mp3? – Kosten en onderhoud – Uitleg veilig rijden – Uitleg bediening09.30Opstapmogelijkheid voor rijders met ervaring op scooter of bromfiets: Aanvang gelegenheid tot opstappen en proefrijden voor geïnteresseerden in een MP3.Niet voor mensen die nog nooit scooter of bromfiets hebben gereden. 10.30Einde programma groep 09.00 uur10.45Groep 11.00 uur: Aankomst en welkom met koffie (zelf pakken mag).11.00Instructie en presentatie door instructeur(s) aan opstappers– Wat is een mp3? – Kosten en onderhoud – Uitleg veilig rijden – Uitleg bediening11.30Opstapmogelijkheid voor rijders met ervaring op scooter of bromfiets: Aanvang gelegenheid tot opstappen en proefrijden voor geïnteresseerden in een MP3.Niet voor mensen die nog nooit scooter of bromfiets hebben gereden. 12.30Einde programma groep 11.00 uur13.45Groep 14.00 uur: Aankomst en welkom met koffie (zelf pakken mag).14.00Instructie en Presentatie aan middaggroep MP3-opstappers– Wat is een mp3? – Kosten en onderhoud – Uitleg veilig rijden – Uitleg bediening14.30Opstapmogelijkheid voor rijders met ervaring op scooter of bromfiets: Aanvang gelegenheid tot opstappen en proefrijden voor geïnteresseerden in een MP3.Niet voor mensen die nog nooit scooter of bromfiets hebben gereden. 15.30Einde programma groep 14.00 uur								\n				\n				\n				\n					Tips:				\n				\n				\n				\n									Wees op tijd anders mist u een deel van het programma\, het programma is strak gepland.Neem voor de zekerheid een lange broek\, warme jas\, stevige dichte schoenen en regenkleding mee. Helmen en eventueel jas zijn bij ons aanwezig.Rij altijd beheerst. Bedenk dat er op de openbare weg ook anderen rijden die niet weten dat u een proefrit maakt. Vraag bij twijfel nog even na hoe alles werkt voordat u wegrijdt.Spullen die je overdag niet nodig hebt kun je veilig in onze trainingsruimte achterlaten.Uit veiligheidsoverwegingen is proefrijden voor mensen zonder motor- of scooterervaring alleen mogelijk na een korte instructie. Voor het proefrijden geldt voor de verzekering een maximaal eigen risico van € 750\,=. Uiteraard hoeft u dit bedrag niet mee te nemen. Dit is alleen van belang wanneer u schade zou rijden aan de MP3\, Metropolis of Tricity tijdens de proefrit.								\n				\n				\n				\n									Wil je nog een vriend of kennis meenemen voor deze dag\, dan kun je die tot 2 dagen tevoren nog opgeven via het aanmeldformulier op de website. 								\n				\n					\n		\n				\n			\n						\n				\n							\n			\n		\n						\n				\n				\n				\n					Onderdelen presentatie:				\n				\n				\n				\n																														\n				\n				\n				\n									Verschillen tussen merken en modellennieuwste ontwikkelingenspeciale eigenschappen MP3’sTechniek\, zitpositie en  rijeigenschappenKijkgedrag\, Veilig rijden\, remmen en stoppenuitrusting en onderhoud MP3Kosten verzekering\, wegenbelasting\, onderhoud en verbruik								\n				\n				\n				\n					Onderdelen praktijk:				\n				\n				\n				\n																														\n				\n				\n				\n									bediening rollock\, richtingaanwijzer\, remmogelijkhedenLeren wegrijden\, kijkgedrag\, spiegelspositie kiezen in het verkeerobstakels op de wegTechniek\, zitpositie en  rijeigenschappenremmen\, stilstaan en parkeren								\n				\n					\n		\n					\n		\n				\n						\n					\n			\n						\n				\n																														\n				\n					\n		\n				\n			\n						\n				\n																														\n				\n					\n		\n					\n		\n				\n						\n					\n			\n						\n				\n							\n					\n				\n				\n			\n							\n				\n									\n						Interesse in de opstapdag? Meld je hier aan:					\n				\n				\n									\n					\n						Klik Hier
URL:https://www.arjanbrouwer.nl/evenement/zaterdag-13-december-2025-piaggio-mp3-peugeot-metropolis-en-yamaha-tricity-opstapdag-met-instructie/
LOCATION:Arjan Brouwer Trading\, Hoge Eng-West 19-21\, Putten\, Gelderland\, 3882 TP\, Nederland
CATEGORIES:MP3
ORGANIZER;CN="Arjan Brouwer Trading":MAILTO:info@arjanbrouwer.nl
GEO:52.249952978547;5.6002058835014
X-APPLE-STRUCTURED-LOCATION;VALUE=URI;X-ADDRESS=Arjan Brouwer Trading Hoge Eng-West 19-21 Putten Gelderland 3882 TP Nederland;X-APPLE-RADIUS=500;X-TITLE=Hoge Eng-West 19-21:geo:5.6002058835014,52.249952978547
END:VEVENT
BEGIN:VEVENT
DTSTART;TZID=Europe/Amsterdam:20251227T080000
DTEND;TZID=Europe/Amsterdam:20251227T170000
DTSTAMP:20260420T040522
CREATED:20241203T152241Z
LAST-MODIFIED:20251111T161543Z
UID:10000268-1766822400-1766854800@www.arjanbrouwer.nl
SUMMARY:Zaterdag 27 December 2025: Piaggio MP3\, Peugeot Metropolis en Yamaha Tricity opstapdag met Instructie.
DESCRIPTION:Gratis Piaggio MP3\, Peugeot Metropolis en Yamaha Tricity driewiel motorscooter opstapdag.				\n				\n				\n				\n							\n					\n				\n				\n			\n							\n				\n									\n						Interesse in de opstapdag? Meld je hier aan:					\n				\n				\n									\n					\n						Klik Hier					\n					\n							\n						\n						\n				\n					\n		\n					\n		\n				\n						\n					\n			\n						\n				\n					In 2 uur tijd kennismaken met de Piaggio MP3\, Peugeot Metropolis 400 en Yamaha Tricity 300:				\n				\n				\n				\n									Arjan Brouwer organiseert in Putten diverse gratis Piaggio MP3\, Peugeot Metropolis en Yamaha Tricity opstapdagen voor mensen die kennis willen maken met een Piaggio MP3\, Peugeot Metropolis of Yamaha Tricity. Het programma van ongeveer 2 uur begint met een theoretische uitleg over hoe een Piaggio MP3 of andere driewieler motorscooter werkt. Ook komt aan bod wat er allemaal komt kijken bij de aanschaf\, onderhoud en het rijden met een MP3.  De instructie wordt afgesloten met een praktisch gedeelte waarbij met meerdere merken en modellen kennisgemaakt kan worden door middel van een proefrit. Deze opstapdag is ook geschikt voor mensen met een autorijbewijs (behaald voor 19-1-2013) die nog nooit op een motor of motorscooter hebben gereden. Let op: het betreft hier geen rij-cursus. Deze kunnen wij tegen betaling wel bieden bij aanschaf van een MP3. Omdat wij veel tijd en moeite steken in deze opstapdagen verwachten wij van de deelnemers dat ze serieuze interesse hebben in de eventuele aankoop op termijn van een MP3 wanneer deze hen bevalt. 								\n				\n				\n				\n									Opstapdag Piaggio MP3\, Peugeot Metropolis en Yamaha Tricity:TijdProgramma08.45Groep 09.00 uur: Aankomst en welkom met koffie (zelf pakken mag).09.00Instructie en presentatie door instructeur(s) aan opstappers– Wat is een mp3? – Kosten en onderhoud – Uitleg veilig rijden – Uitleg bediening09.30Opstapmogelijkheid voor rijders met ervaring op scooter of bromfiets: Aanvang gelegenheid tot opstappen en proefrijden voor geïnteresseerden in een MP3.Niet voor mensen die nog nooit scooter of bromfiets hebben gereden. 10.30Einde programma groep 09.00 uur10.45Groep 11.00 uur: Aankomst en welkom met koffie (zelf pakken mag).11.00Instructie en presentatie door instructeur(s) aan opstappers– Wat is een mp3? – Kosten en onderhoud – Uitleg veilig rijden – Uitleg bediening11.30Opstapmogelijkheid voor rijders met ervaring op scooter of bromfiets: Aanvang gelegenheid tot opstappen en proefrijden voor geïnteresseerden in een MP3.Niet voor mensen die nog nooit scooter of bromfiets hebben gereden. 12.30Einde programma groep 11.00 uur13.45Groep 14.00 uur: Aankomst en welkom met koffie (zelf pakken mag).14.00Instructie en Presentatie aan middaggroep MP3-opstappers– Wat is een mp3? – Kosten en onderhoud – Uitleg veilig rijden – Uitleg bediening14.30Opstapmogelijkheid voor rijders met ervaring op scooter of bromfiets: Aanvang gelegenheid tot opstappen en proefrijden voor geïnteresseerden in een MP3.Niet voor mensen die nog nooit scooter of bromfiets hebben gereden. 15.30Einde programma groep 14.00 uur								\n				\n				\n				\n					Tips:				\n				\n				\n				\n									Wees op tijd anders mist u een deel van het programma\, het programma is strak gepland.Neem voor de zekerheid een lange broek\, warme jas\, stevige dichte schoenen en regenkleding mee. Helmen en eventueel jas zijn bij ons aanwezig.Rij altijd beheerst. Bedenk dat er op de openbare weg ook anderen rijden die niet weten dat u een proefrit maakt. Vraag bij twijfel nog even na hoe alles werkt voordat u wegrijdt.Spullen die je overdag niet nodig hebt kun je veilig in onze trainingsruimte achterlaten.Uit veiligheidsoverwegingen is proefrijden voor mensen zonder motor- of scooterervaring alleen mogelijk na een korte instructie. Voor het proefrijden geldt voor de verzekering een maximaal eigen risico van € 750\,=. Uiteraard hoeft u dit bedrag niet mee te nemen. Dit is alleen van belang wanneer u schade zou rijden aan de MP3\, Metropolis of Tricity tijdens de proefrit.								\n				\n				\n				\n									Wil je nog een vriend of kennis meenemen voor deze dag\, dan kun je die tot 2 dagen tevoren nog opgeven via het aanmeldformulier op de website. 								\n				\n					\n		\n				\n			\n						\n				\n							\n			\n		\n						\n				\n				\n				\n					Onderdelen presentatie:				\n				\n				\n				\n																														\n				\n				\n				\n									Verschillen tussen merken en modellennieuwste ontwikkelingenspeciale eigenschappen MP3’sTechniek\, zitpositie en  rijeigenschappenKijkgedrag\, Veilig rijden\, remmen en stoppenuitrusting en onderhoud MP3Kosten verzekering\, wegenbelasting\, onderhoud en verbruik								\n				\n				\n				\n					Onderdelen praktijk:				\n				\n				\n				\n																														\n				\n				\n				\n									bediening rollock\, richtingaanwijzer\, remmogelijkhedenLeren wegrijden\, kijkgedrag\, spiegelspositie kiezen in het verkeerobstakels op de wegTechniek\, zitpositie en  rijeigenschappenremmen\, stilstaan en parkeren								\n				\n					\n		\n					\n		\n				\n						\n					\n			\n						\n				\n																														\n				\n					\n		\n				\n			\n						\n				\n																														\n				\n					\n		\n					\n		\n				\n						\n					\n			\n						\n				\n							\n					\n				\n				\n			\n							\n				\n									\n						Interesse in de opstapdag? Meld je hier aan:					\n				\n				\n									\n					\n						Klik Hier
URL:https://www.arjanbrouwer.nl/evenement/zaterdag-27-december-2025-piaggio-mp3-peugeot-metropolis-en-yamaha-tricity-opstapdag-met-instructie/
LOCATION:Arjan Brouwer Trading\, Hoge Eng-West 19-21\, Putten\, Gelderland\, 3882 TP\, Nederland
CATEGORIES:MP3
ORGANIZER;CN="Arjan Brouwer Trading":MAILTO:info@arjanbrouwer.nl
GEO:52.249952978547;5.6002058835014
X-APPLE-STRUCTURED-LOCATION;VALUE=URI;X-ADDRESS=Arjan Brouwer Trading Hoge Eng-West 19-21 Putten Gelderland 3882 TP Nederland;X-APPLE-RADIUS=500;X-TITLE=Hoge Eng-West 19-21:geo:5.6002058835014,52.249952978547
END:VEVENT
END:VCALENDAR